BEGIN:VCALENDAR
VERSION:2.0
PRODID:-//Drøsselbjerg Kirke - ECPv4.9.4//NONSGML v1.0//EN
CALSCALE:GREGORIAN
METHOD:PUBLISH
X-WR-CALNAME:Drøsselbjerg Kirke
X-ORIGINAL-URL:https://xn--drsselbjergkirke-mxb.dk
X-WR-CALDESC:Events for Drøsselbjerg Kirke
BEGIN:VTIMEZONE
TZID:"UTC"
BEGIN:STANDARD
TZOFFSETFROM:+0000
TZOFFSETTO:+0000
TZNAME:UTC
DTSTART:20240101T000000
END:STANDARD
END:VTIMEZONE
BEGIN:VEVENT
DTSTART;TZID="UTC":20240918T080000
DTEND;TZID="UTC":20240918T170000
DTSTAMP:20260421T233349
CREATED:20240828T105647Z
LAST-MODIFIED:20240828T110135Z
UID:2826-1726646400-1726678800@xn--drsselbjergkirke-mxb.dk
SUMMARY:Valg til menighedsråd – oplysning i vedhæftede kirkeside
DESCRIPTION:Se kirkeblad her \nValg til menighedsråd d. 17 september \nKirke Helsinge Kl.19.30 i De 3 sognes hus \nReersø Kl. 17.30 i Reersøhuset \nValg til menighedsråd d. 18 september \nDrøsselbjerg kl. 19.00 i De 3 sognes Hus \n
URL:https://xn--drsselbjergkirke-mxb.dk/arrangementer/valg-til-menighedsraad-oplysning-i-vedhaeftede-kirkeside/
LOCATION:De 3 sognes hus\, Søndergade 3\, Gørlev\, 4281\, Danmark
END:VEVENT
END:VCALENDAR