BEGIN:VCALENDAR
VERSION:2.0
PRODID:-//Drøsselbjerg Kirke - ECPv4.9.4//NONSGML v1.0//EN
CALSCALE:GREGORIAN
METHOD:PUBLISH
X-WR-CALNAME:Drøsselbjerg Kirke
X-ORIGINAL-URL:https://xn--drsselbjergkirke-mxb.dk
X-WR-CALDESC:Events for Drøsselbjerg Kirke
BEGIN:VTIMEZONE
TZID:"UTC"
BEGIN:STANDARD
TZOFFSETFROM:+0000
TZOFFSETTO:+0000
TZNAME:UTC
DTSTART:20180101T000000
END:STANDARD
END:VTIMEZONE
BEGIN:VEVENT
DTSTART;TZID="UTC":20180916T140000
DTEND;TZID="UTC":20180916T170000
DTSTAMP:20260424T125717
CREATED:20180823T090918Z
LAST-MODIFIED:20180823T091137Z
UID:1008-1537106400-1537117200@xn--drsselbjergkirke-mxb.dk
SUMMARY:Udendørs Høstgudstjeneste
DESCRIPTION:
URL:https://xn--drsselbjergkirke-mxb.dk/arrangementer/udendoers-hoestgudstjeneste/
LOCATION:Mullerup Havn\, Mullerup Strandvej 19\, Slagelse\, 4200\, Danmark
ATTACH;FMTTYPE=image/jpeg:https://xn--drsselbjergkirke-mxb.dk/wp-content/uploads/2018/08/høstgudstjeneste-2018.jpg
END:VEVENT
END:VCALENDAR