BEGIN:VCALENDAR
VERSION:2.0
PRODID:-//Drøsselbjerg Kirke - ECPv4.9.4//NONSGML v1.0//EN
CALSCALE:GREGORIAN
METHOD:PUBLISH
X-WR-CALNAME:Drøsselbjerg Kirke
X-ORIGINAL-URL:https://xn--drsselbjergkirke-mxb.dk
X-WR-CALDESC:Events for Drøsselbjerg Kirke
BEGIN:VTIMEZONE
TZID:"UTC"
BEGIN:STANDARD
TZOFFSETFROM:+0000
TZOFFSETTO:+0000
TZNAME:UTC
DTSTART:20180101T000000
END:STANDARD
END:VTIMEZONE
BEGIN:VEVENT
DTSTART;TZID="UTC":20180826T080000
DTEND;TZID="UTC":20180826T173000
DTSTAMP:20260424T111418
CREATED:20180531T083736Z
LAST-MODIFIED:20180531T084029Z
UID:904-1535270400-1535304600@xn--drsselbjergkirke-mxb.dk
SUMMARY:Sogneudflugt 2018
DESCRIPTION:Bussen afgår fra Reersø kl. 8.00\, Kirke Helsinge kl. 8.15 og Drøsselbjerg kl. 8.30.\nKl. 10 begynder Højmesse i Holsted Kirke\, Næstved. Og efter gudstjenesten fortæller præsten\, Jesper Svendsen\, lidt om kirken.\nCa. kl. 13 er der afgang fra Næstved Havn med det hyggelige skib\, “Friheden” med kurs mod Karrebæksminde. Ombord på båden får vi serveret frokost\, mens vi nyder sejlturen i kanalen og på fjorden forbi eventyrslottet Gavnø. Turen varer ca. 1½ time.\nBussen afhenter os i Karrebæksminde hvor vi kører videre til\, Zen Garden i Vedde. her er der Engletrompeter i fuldt flor\, som vi skal opleve!\nI Zen Garden\, for vi kaffe og kage – de venter os ca. kl. 16.00.\nKl. 17.30 køre bussen os hjem\, efter en begivenhedsrig dag. \nTILMELDING til Karin Sørensen\, på mobil nr. 30 30 62 70 senest 15. august. \n
URL:https://xn--drsselbjergkirke-mxb.dk/arrangementer/sogneudflugt-2018/
LOCATION:Holsted Kirke\, Næstved\, 4700\, Danmark
ATTACH;FMTTYPE=image/jpeg:https://xn--drsselbjergkirke-mxb.dk/wp-content/uploads/2018/05/sogneudflugt.jpg
END:VEVENT
END:VCALENDAR