BEGIN:VCALENDAR
VERSION:2.0
PRODID:-//Drøsselbjerg Kirke - ECPv4.9.4//NONSGML v1.0//EN
CALSCALE:GREGORIAN
METHOD:PUBLISH
X-WR-CALNAME:Drøsselbjerg Kirke
X-ORIGINAL-URL:https://xn--drsselbjergkirke-mxb.dk
X-WR-CALDESC:Events for Drøsselbjerg Kirke
BEGIN:VTIMEZONE
TZID:"UTC"
BEGIN:STANDARD
TZOFFSETFROM:+0000
TZOFFSETTO:+0000
TZNAME:UTC
DTSTART:20240101T000000
END:STANDARD
END:VTIMEZONE
BEGIN:VEVENT
DTSTART;TZID="UTC":20240922T080000
DTEND;TZID="UTC":20240922T170000
DTSTAMP:20260421T233756
CREATED:20240828T105858Z
LAST-MODIFIED:20240828T110247Z
UID:2830-1726992000-1727024400@xn--drsselbjergkirke-mxb.dk
SUMMARY:Sognetur
DESCRIPTION:Se mere om turen her \nSogneudflugt for borgere i de 3 sogne. \n
URL:https://xn--drsselbjergkirke-mxb.dk/arrangementer/sognetur/
END:VEVENT
END:VCALENDAR