BEGIN:VCALENDAR
VERSION:2.0
PRODID:-//Drøsselbjerg Kirke - ECPv4.9.4//NONSGML v1.0//EN
CALSCALE:GREGORIAN
METHOD:PUBLISH
X-WR-CALNAME:Drøsselbjerg Kirke
X-ORIGINAL-URL:https://xn--drsselbjergkirke-mxb.dk
X-WR-CALDESC:Events for Drøsselbjerg Kirke
BEGIN:VTIMEZONE
TZID:"UTC"
BEGIN:STANDARD
TZOFFSETFROM:+0000
TZOFFSETTO:+0000
TZNAME:UTC
DTSTART:20200101T000000
END:STANDARD
END:VTIMEZONE
BEGIN:VEVENT
DTSTART;TZID="UTC":20201203T190000
DTEND;TZID="UTC":20201203T210000
DTSTAMP:20260423T122652
CREATED:20200928T102852Z
LAST-MODIFIED:20201028T085244Z
UID:1846-1607022000-1607029200@xn--drsselbjergkirke-mxb.dk
SUMMARY:AFLYST! Sangklubben I ”De 3 Sognes Hus”
DESCRIPTION:
URL:https://xn--drsselbjergkirke-mxb.dk/arrangementer/sangklubben-i-de-3-sognes-hus-2020-12-03/
LOCATION:De 3 sognes hus\, Søndergade 3\, Gørlev\, 4281\, Danmark
ATTACH;FMTTYPE=image/png:https://xn--drsselbjergkirke-mxb.dk/wp-content/uploads/2017/08/Skærmbillede-2017-08-17-kl.-22.07.36.png
END:VEVENT
END:VCALENDAR