BEGIN:VCALENDAR
VERSION:2.0
PRODID:-//Drøsselbjerg Kirke - ECPv4.9.4//NONSGML v1.0//EN
CALSCALE:GREGORIAN
METHOD:PUBLISH
X-WR-CALNAME:Drøsselbjerg Kirke
X-ORIGINAL-URL:https://xn--drsselbjergkirke-mxb.dk
X-WR-CALDESC:Events for Drøsselbjerg Kirke
BEGIN:VTIMEZONE
TZID:"UTC"
BEGIN:STANDARD
TZOFFSETFROM:+0000
TZOFFSETTO:+0000
TZNAME:UTC
DTSTART:20180101T000000
END:STANDARD
END:VTIMEZONE
BEGIN:VEVENT
DTSTART;TZID="UTC":20180628T190000
DTEND;TZID="UTC":20180628T203000
DTSTAMP:20260424T144815
CREATED:20180318T140809Z
LAST-MODIFIED:20180318T142526Z
UID:808-1530212400-1530217800@xn--drsselbjergkirke-mxb.dk
SUMMARY:Musikals foredrag med Anders Bircow
DESCRIPTION:
URL:https://xn--drsselbjergkirke-mxb.dk/arrangementer/musikals-foredrag-med-anders-bircow/
LOCATION:Drøsselbjerg Kirke\, Kirkemarksvej 3\, Slagelse\, 4200\, Danmark
ATTACH;FMTTYPE=application/pdf:https://xn--drsselbjergkirke-mxb.dk/wp-content/uploads/2018/03/Anders-Bircow-Plakat-PDF.pdf
END:VEVENT
END:VCALENDAR