BEGIN:VCALENDAR
VERSION:2.0
PRODID:-//Drøsselbjerg Kirke - ECPv4.9.4//NONSGML v1.0//EN
CALSCALE:GREGORIAN
METHOD:PUBLISH
X-WR-CALNAME:Drøsselbjerg Kirke
X-ORIGINAL-URL:https://xn--drsselbjergkirke-mxb.dk
X-WR-CALDESC:Events for Drøsselbjerg Kirke
BEGIN:VTIMEZONE
TZID:"UTC"
BEGIN:STANDARD
TZOFFSETFROM:+0000
TZOFFSETTO:+0000
TZNAME:UTC
DTSTART:20200101T000000
END:STANDARD
END:VTIMEZONE
BEGIN:VEVENT
DTSTART;TZID="UTC":20200915T190000
DTEND;TZID="UTC":20200915T190000
DTSTAMP:20260423T154308
CREATED:20200106T132122Z
LAST-MODIFIED:20200825T060654Z
UID:1570-1600196400-1600196400@xn--drsselbjergkirke-mxb.dk
SUMMARY:Menighedsrådsvalg 2020 - Drøsselbjerg Sogn
DESCRIPTION:Invitation til valg i Drøsselbjerg Sogn. \nDagsorden for menighedsrådsvalget. \n
URL:https://xn--drsselbjergkirke-mxb.dk/arrangementer/menighedsraadsvalg-2020-droesselbjerg/
LOCATION:Drøsselbjerg Kirke\, Kirkemarksvej 3\, Slagelse\, 4200\, Danmark
CATEGORIES:Menighedsrådsmøde
ATTACH;FMTTYPE=image/jpeg:https://xn--drsselbjergkirke-mxb.dk/wp-content/uploads/2017/04/Droesselbjerg-kirke_01.jpg
END:VEVENT
END:VCALENDAR