BEGIN:VCALENDAR
VERSION:2.0
PRODID:-//Drøsselbjerg Kirke - ECPv4.9.4//NONSGML v1.0//EN
CALSCALE:GREGORIAN
METHOD:PUBLISH
X-WR-CALNAME:Drøsselbjerg Kirke
X-ORIGINAL-URL:https://xn--drsselbjergkirke-mxb.dk
X-WR-CALDESC:Events for Drøsselbjerg Kirke
BEGIN:VTIMEZONE
TZID:"UTC"
BEGIN:STANDARD
TZOFFSETFROM:+0000
TZOFFSETTO:+0000
TZNAME:UTC
DTSTART:20180101T000000
END:STANDARD
END:VTIMEZONE
BEGIN:VEVENT
DTSTART;TZID="UTC":20181114T190000
DTEND;TZID="UTC":20181114T200000
DTSTAMP:20260424T092655
CREATED:20181105T141320Z
LAST-MODIFIED:20181105T141320Z
UID:1094-1542222000-1542225600@xn--drsselbjergkirke-mxb.dk
SUMMARY:Menighedsmøde
DESCRIPTION:
URL:https://xn--drsselbjergkirke-mxb.dk/arrangementer/menighedsmoede/
LOCATION:De 3 sognes hus\, Søndergade 3\, Gørlev\, 4281\, Danmark
ATTACH;FMTTYPE=image/png:https://xn--drsselbjergkirke-mxb.dk/wp-content/uploads/2017/08/Skærmbillede-2017-08-17-kl.-22.07.36.png
END:VEVENT
END:VCALENDAR