BEGIN:VCALENDAR
VERSION:2.0
PRODID:-//Drøsselbjerg Kirke - ECPv4.9.4//NONSGML v1.0//EN
CALSCALE:GREGORIAN
METHOD:PUBLISH
X-WR-CALNAME:Drøsselbjerg Kirke
X-ORIGINAL-URL:https://xn--drsselbjergkirke-mxb.dk
X-WR-CALDESC:Events for Drøsselbjerg Kirke
BEGIN:VTIMEZONE
TZID:"UTC"
BEGIN:STANDARD
TZOFFSETFROM:+0000
TZOFFSETTO:+0000
TZNAME:UTC
DTSTART:20210101T000000
END:STANDARD
END:VTIMEZONE
BEGIN:VEVENT
DTSTART;TZID="UTC":20210901T190000
DTEND;TZID="UTC":20210901T203000
DTSTAMP:20260423T071414
CREATED:20210614T095351Z
LAST-MODIFIED:20210614T100231Z
UID:1986-1630522800-1630528200@xn--drsselbjergkirke-mxb.dk
SUMMARY:Koncert med Kristian Rusbjerg & Jacob Venndt
DESCRIPTION: \n
URL:https://xn--drsselbjergkirke-mxb.dk/arrangementer/koncert-med-kristian-rusbjerg-jacob-venndt/
LOCATION:Drøsselbjerg Kirke\, Kirkemarksvej 3\, Slagelse\, 4200\, Danmark
ATTACH;FMTTYPE=image/jpeg:https://xn--drsselbjergkirke-mxb.dk/wp-content/uploads/2017/05/baggrund_05.jpg
END:VEVENT
END:VCALENDAR