BEGIN:VCALENDAR
VERSION:2.0
PRODID:-//Drøsselbjerg Kirke - ECPv4.9.4//NONSGML v1.0//EN
CALSCALE:GREGORIAN
METHOD:PUBLISH
X-WR-CALNAME:Drøsselbjerg Kirke
X-ORIGINAL-URL:https://xn--drsselbjergkirke-mxb.dk
X-WR-CALDESC:Events for Drøsselbjerg Kirke
BEGIN:VTIMEZONE
TZID:"UTC"
BEGIN:STANDARD
TZOFFSETFROM:+0000
TZOFFSETTO:+0000
TZNAME:UTC
DTSTART:20170101T000000
END:STANDARD
END:VTIMEZONE
BEGIN:VEVENT
DTSTART;TZID="UTC":20170720T190000
DTEND;TZID="UTC":20170720T190000
DTSTAMP:20260424T201838
CREATED:20170429T214933Z
LAST-MODIFIED:20170429T214933Z
UID:231-1500577200-1500577200@xn--drsselbjergkirke-mxb.dk
SUMMARY:Koncert med Gipsy Vendetta
DESCRIPTION:Gypsy Vendetta er et yderst velspillende Gypsy Jazz orkester fra København. Gypsy Vendetta spiller fransk jazz (Jazz Manouche) og er meget inspireret af den gamle guitarmester Django Reinhardt. \nDet stærkt svingende orkester\, som tæller Anders Nilou (Guitar)\, Rasmus Rude (Guitar) og Anders Mondrup (Kontrabas)\, har spillet mere end 200 koncerter i Danmark\, Norge\, Serbien\, Ungarn\, Tjekkiet\, Slovakiet og Marokko. \nMusikken egner sig både til større koncerter\, hvor orkestret senest spillede spillede to sveddrivende koncerter for 2000 dansende mennesker til Musik I Lejet 2014\, til intimkoncerter\, som de succesfulde arrangementer på Il Buco\, Bjergtrolden og Christianshavns bådudlejning\, men også som afslappet baggrundsmusik til receptionen\, festen\, under middagen og lignende arrangementer. \nGypsy Vendetta er et erfarent orkester med fantastisk timing\, positiv energi og stor respekt for den elskelige Gypsy jazz\, som holder fanen højt og vidergiver den traditionsrige musikstil. \nGypsy Vendetta spiller i øvrigt ofte med Tom McEwan (kendt fra TV) på trommer og vaskebræt\, og Frederick Menzies (DR Big Band) på klarinet. \n
URL:https://xn--drsselbjergkirke-mxb.dk/arrangementer/koncert-med-gipsy-vendetta/
LOCATION:Drøsselbjerg Kirke\, Kirkemarksvej 3\, Slagelse\, 4200\, Danmark
ATTACH;FMTTYPE=image/jpeg:https://xn--drsselbjergkirke-mxb.dk/wp-content/uploads/2017/04/5541.jpg
END:VEVENT
END:VCALENDAR