BEGIN:VCALENDAR
VERSION:2.0
PRODID:-//Drøsselbjerg Kirke - ECPv4.9.4//NONSGML v1.0//EN
CALSCALE:GREGORIAN
METHOD:PUBLISH
X-WR-CALNAME:Drøsselbjerg Kirke
X-ORIGINAL-URL:https://xn--drsselbjergkirke-mxb.dk
X-WR-CALDESC:Events for Drøsselbjerg Kirke
BEGIN:VTIMEZONE
TZID:"UTC"
BEGIN:STANDARD
TZOFFSETFROM:+0000
TZOFFSETTO:+0000
TZNAME:UTC
DTSTART:20260101T000000
END:STANDARD
END:VTIMEZONE
BEGIN:VEVENT
DTSTART;TZID="UTC":20260618T190000
DTEND;TZID="UTC":20260618T203000
DTSTAMP:20260423T185635
CREATED:20260422T182327Z
LAST-MODIFIED:20260422T182540Z
UID:3236-1781809200-1781814600@xn--drsselbjergkirke-mxb.dk
SUMMARY:Koncert i Drøsselbjerg Kirke med Slagelse Rytmekor
DESCRIPTION:  \n  \n
URL:https://xn--drsselbjergkirke-mxb.dk/arrangementer/koncert-i-droesselbjerg-kirke-med-slagelse-rytmekor-2/
LOCATION:Drøsselbjerg Kirke\, Kirkemarksvej 3\, Slagelse\, 4200\, Danmark
ATTACH;FMTTYPE=image/png:https://xn--drsselbjergkirke-mxb.dk/wp-content/uploads/2026/04/Koncert-Slagelse-Rytmekor-18-jun-2026.png
END:VEVENT
END:VCALENDAR