BEGIN:VCALENDAR
VERSION:2.0
PRODID:-//Drøsselbjerg Kirke - ECPv4.9.4//NONSGML v1.0//EN
CALSCALE:GREGORIAN
METHOD:PUBLISH
X-WR-CALNAME:Drøsselbjerg Kirke
X-ORIGINAL-URL:https://xn--drsselbjergkirke-mxb.dk
X-WR-CALDESC:Events for Drøsselbjerg Kirke
BEGIN:VTIMEZONE
TZID:"UTC"
BEGIN:STANDARD
TZOFFSETFROM:+0000
TZOFFSETTO:+0000
TZNAME:UTC
DTSTART:20180101T000000
END:STANDARD
END:VTIMEZONE
BEGIN:VEVENT
DTSTART;TZID="UTC":20181213T190000
DTEND;TZID="UTC":20181213T203000
DTSTAMP:20260424T110423
CREATED:20181114T140046Z
LAST-MODIFIED:20181114T140046Z
UID:1099-1544727600-1544733000@xn--drsselbjergkirke-mxb.dk
SUMMARY:Julen 2018 synges ind i Drøsselbjerg Kirke
DESCRIPTION:
URL:https://xn--drsselbjergkirke-mxb.dk/arrangementer/julen-2018-synges-ind-i-droesselbjerg-kirke/
LOCATION:Drøsselbjerg Kirke\, Kirkemarksvej 3\, Slagelse\, 4200\, Danmark
ATTACH;FMTTYPE=image/jpeg:https://xn--drsselbjergkirke-mxb.dk/wp-content/uploads/2018/11/Plakat-Michael-Winkler-Foto.jpg
END:VEVENT
END:VCALENDAR