BEGIN:VCALENDAR
VERSION:2.0
PRODID:-//Drøsselbjerg Kirke - ECPv4.9.4//NONSGML v1.0//EN
CALSCALE:GREGORIAN
METHOD:PUBLISH
X-WR-CALNAME:Drøsselbjerg Kirke
X-ORIGINAL-URL:https://xn--drsselbjergkirke-mxb.dk
X-WR-CALDESC:Events for Drøsselbjerg Kirke
BEGIN:VTIMEZONE
TZID:"UTC"
BEGIN:STANDARD
TZOFFSETFROM:+0000
TZOFFSETTO:+0000
TZNAME:UTC
DTSTART:20240101T000000
END:STANDARD
END:VTIMEZONE
BEGIN:VEVENT
DTSTART;TZID="UTC":20241205T080000
DTEND;TZID="UTC":20241205T170000
DTSTAMP:20260421T212955
CREATED:20240828T110428Z
LAST-MODIFIED:20240828T110452Z
UID:2837-1733385600-1733418000@xn--drsselbjergkirke-mxb.dk
SUMMARY:Julekoncert
DESCRIPTION:Julekoncert med Flemming Gammelholm. Gløgg og æbleskiver i pausen. \nSe mere i kirkebladet \n
URL:https://xn--drsselbjergkirke-mxb.dk/arrangementer/julekoncert/
LOCATION:Drøsselbjerg Kirke\, Kirkemarksvej 3\, Slagelse\, 4200\, Danmark
END:VEVENT
END:VCALENDAR