BEGIN:VCALENDAR
VERSION:2.0
PRODID:-//Drøsselbjerg Kirke - ECPv4.9.4//NONSGML v1.0//EN
CALSCALE:GREGORIAN
METHOD:PUBLISH
X-WR-CALNAME:Drøsselbjerg Kirke
X-ORIGINAL-URL:https://xn--drsselbjergkirke-mxb.dk
X-WR-CALDESC:Events for Drøsselbjerg Kirke
BEGIN:VTIMEZONE
TZID:"UTC"
BEGIN:STANDARD
TZOFFSETFROM:+0000
TZOFFSETTO:+0000
TZNAME:UTC
DTSTART:20200101T000000
END:STANDARD
END:VTIMEZONE
BEGIN:VEVENT
DTSTART;TZID="UTC":20201202T190000
DTEND;TZID="UTC":20201202T203000
DTSTAMP:20260423T122635
CREATED:20200928T101648Z
LAST-MODIFIED:20201120T081017Z
UID:1828-1606935600-1606941000@xn--drsselbjergkirke-mxb.dk
SUMMARY:Julekoncert med Jeannet Ulrikkeholm
DESCRIPTION: \n
URL:https://xn--drsselbjergkirke-mxb.dk/arrangementer/julekoncert-med-jeannet-ulrikkeholm/
LOCATION:Drøsselbjerg Kirke\, Kirkemarksvej 3\, Slagelse\, 4200\, Danmark
ATTACH;FMTTYPE=image/jpeg:https://xn--drsselbjergkirke-mxb.dk/wp-content/uploads/2017/05/baggrund_05.jpg
END:VEVENT
END:VCALENDAR