BEGIN:VCALENDAR
VERSION:2.0
PRODID:-//Drøsselbjerg Kirke - ECPv4.9.4//NONSGML v1.0//EN
CALSCALE:GREGORIAN
METHOD:PUBLISH
X-WR-CALNAME:Drøsselbjerg Kirke
X-ORIGINAL-URL:https://xn--drsselbjergkirke-mxb.dk
X-WR-CALDESC:Events for Drøsselbjerg Kirke
BEGIN:VTIMEZONE
TZID:"UTC"
BEGIN:STANDARD
TZOFFSETFROM:+0000
TZOFFSETTO:+0000
TZNAME:UTC
DTSTART:20190101T000000
END:STANDARD
END:VTIMEZONE
BEGIN:VEVENT
DTSTART;TZID="UTC":20190718T190000
DTEND;TZID="UTC":20190718T210000
DTSTAMP:20260424T040546
CREATED:20190401T085019Z
LAST-MODIFIED:20190502T105159Z
UID:1241-1563476400-1563483600@xn--drsselbjergkirke-mxb.dk
SUMMARY:Inge-Marie fra Dræsinebanden synger sange og viser
DESCRIPTION:I mere end 20 år var Inge-Marie sammen med sin mand hovedkræfterne i Dræsinebanden\, som solgte over 800.000 CD’er. Inge-Maries flotte\, varme stemme\, kan nu nydes i et smukt soloprogram med kendte og skønne danske sange og viser. Glæd dig til sange som: ”Jeg er havren”\, ”Calle Schewens vals”\, ”I sommersol ved den Hvide Hest”\, ”Pigen og Søndenvinden”\, ”En yndig og frydefuld sommertid ” og ”Visen om de atten svaner” og måske et par\nsømandsviser. \nInge-Marie kan også engageres med en speciel afdeling\, hvor hun hylder\nRaquel Rastenni. Her kan publikum nynne og synge med på en lang stribe af Rastennis sange\, som Inge-Marie selv er vokset op med og altid har holdt af. Her er sange\, som altid vil blive forbundet med Raquel Rastennis navn\, først og fremmest “Heksedansen” (”Se her kommer mutter med kost og spand”)\, men også kendte sange som ”Hele ugen alene”\, ”Vovsen i vinduet”\, ”Her i\nvores hus er glæde”\, ”Tom Pilibi” og ”Elisabeth Serenade”. Sangene bliver krydret med små historier og anekdoter om Raquel Rastenni \nDer serveres lidt godt til ganen i pausen\, og alt er som sædvanlig gratis\nMenighedsrådet \n
URL:https://xn--drsselbjergkirke-mxb.dk/arrangementer/inge-marie-fra-draesinebanden-synger-sange-og-viser/
LOCATION:Drøsselbjerg Kirke\, Kirkemarksvej 3\, Slagelse\, 4200\, Danmark
ATTACH;FMTTYPE=image/jpeg:https://xn--drsselbjergkirke-mxb.dk/wp-content/uploads/2019/04/inge-marie.jpg
END:VEVENT
END:VCALENDAR