BEGIN:VCALENDAR
VERSION:2.0
PRODID:-//Drøsselbjerg Kirke - ECPv4.9.4//NONSGML v1.0//EN
CALSCALE:GREGORIAN
METHOD:PUBLISH
X-WR-CALNAME:Drøsselbjerg Kirke
X-ORIGINAL-URL:https://xn--drsselbjergkirke-mxb.dk
X-WR-CALDESC:Events for Drøsselbjerg Kirke
BEGIN:VTIMEZONE
TZID:"UTC"
BEGIN:STANDARD
TZOFFSETFROM:+0000
TZOFFSETTO:+0000
TZNAME:UTC
DTSTART:20210101T000000
END:STANDARD
END:VTIMEZONE
BEGIN:VEVENT
DTSTART;TZID="UTC":20210912T150000
DTEND;TZID="UTC":20210912T160000
DTSTAMP:20260423T071414
CREATED:20210825T074127Z
LAST-MODIFIED:20210825T074315Z
UID:2019-1631458800-1631462400@xn--drsselbjergkirke-mxb.dk
SUMMARY:Høstgudstjeneste i Drøsselbjerg Kirke (15.s.e.Trinitatis)
DESCRIPTION:Se invitationen til høstgudstjenesten her \n \n
URL:https://xn--drsselbjergkirke-mxb.dk/arrangementer/hoestgudstjeneste-i-droesselbjerg-kirke-15-s-e-trinitatis-2021/
LOCATION:Drøsselbjerg Kirke\, Kirkemarksvej 3\, Slagelse\, 4200\, Danmark
ATTACH;FMTTYPE=image/jpeg:https://xn--drsselbjergkirke-mxb.dk/wp-content/uploads/2017/04/Droesselbjerg-kirke_01.jpg
END:VEVENT
END:VCALENDAR