BEGIN:VCALENDAR
VERSION:2.0
PRODID:-//Drøsselbjerg Kirke - ECPv4.9.4//NONSGML v1.0//EN
CALSCALE:GREGORIAN
METHOD:PUBLISH
X-WR-CALNAME:Drøsselbjerg Kirke
X-ORIGINAL-URL:https://xn--drsselbjergkirke-mxb.dk
X-WR-CALDESC:Events for Drøsselbjerg Kirke
BEGIN:VTIMEZONE
TZID:"UTC"
BEGIN:STANDARD
TZOFFSETFROM:+0000
TZOFFSETTO:+0000
TZNAME:UTC
DTSTART:20260101T000000
END:STANDARD
END:VTIMEZONE
BEGIN:VEVENT
DTSTART;TZID="UTC":20260525T110000
DTEND;TZID="UTC":20260525T130000
DTSTAMP:20260423T153920
CREATED:20260422T181327Z
LAST-MODIFIED:20260422T181343Z
UID:3231-1779706800-1779714000@xn--drsselbjergkirke-mxb.dk
SUMMARY:Fælles gudstjeneste på AMFI (Bregningevej 1\, 4593 Eskebjerg) 2.Pinsedag
DESCRIPTION:
URL:https://xn--drsselbjergkirke-mxb.dk/arrangementer/gudstjeneste-paa-amfi-2026-05-25-2/
LOCATION:Bregninge Amfiteater\, Amfivej 1\, Eskebjerg\, 4593\, Danmark
ATTACH;FMTTYPE=image/jpeg:https://xn--drsselbjergkirke-mxb.dk/wp-content/uploads/2026/04/FaellesgudstjenesteAMFI-25-maj-2026.jpg
END:VEVENT
END:VCALENDAR