BEGIN:VCALENDAR
VERSION:2.0
PRODID:-//Drøsselbjerg Kirke - ECPv4.9.4//NONSGML v1.0//EN
CALSCALE:GREGORIAN
METHOD:PUBLISH
X-WR-CALNAME:Drøsselbjerg Kirke
X-ORIGINAL-URL:https://xn--drsselbjergkirke-mxb.dk
X-WR-CALDESC:Events for Drøsselbjerg Kirke
BEGIN:VTIMEZONE
TZID:"UTC"
BEGIN:STANDARD
TZOFFSETFROM:+0000
TZOFFSETTO:+0000
TZNAME:UTC
DTSTART:20180101T000000
END:STANDARD
END:VTIMEZONE
BEGIN:VEVENT
DTSTART;TZID="UTC":20180806T103000
DTEND;TZID="UTC":20180806T113000
DTSTAMP:20260424T112726
CREATED:20180806T082412Z
LAST-MODIFIED:20180806T082412Z
UID:995-1533551400-1533555000@xn--drsselbjergkirke-mxb.dk
SUMMARY:Gudstjeneste i Drøsselbjerg Kirke (s.s.i kirkeåret)
DESCRIPTION:
URL:https://xn--drsselbjergkirke-mxb.dk/arrangementer/gudstjeneste-i-droesselbjerg-kirke-s-s-i-kirkeaaret/
LOCATION:Drøsselbjerg Kirke\, Kirkemarksvej 3\, Slagelse\, 4200\, Danmark
ATTACH;FMTTYPE=image/jpeg:https://xn--drsselbjergkirke-mxb.dk/wp-content/uploads/2017/05/baggrund_05.jpg
END:VEVENT
END:VCALENDAR