BEGIN:VCALENDAR
VERSION:2.0
PRODID:-//Drøsselbjerg Kirke - ECPv4.9.4//NONSGML v1.0//EN
CALSCALE:GREGORIAN
METHOD:PUBLISH
X-WR-CALNAME:Drøsselbjerg Kirke
X-ORIGINAL-URL:https://xn--drsselbjergkirke-mxb.dk
X-WR-CALDESC:Events for Drøsselbjerg Kirke
BEGIN:VTIMEZONE
TZID:"UTC"
BEGIN:STANDARD
TZOFFSETFROM:+0000
TZOFFSETTO:+0000
TZNAME:UTC
DTSTART:20250101T000000
END:STANDARD
END:VTIMEZONE
BEGIN:VEVENT
DTSTART;TZID="UTC":20250302T120000
DTEND;TZID="UTC":20250302T130000
DTSTAMP:20260421T154433
CREATED:20250102T082550Z
LAST-MODIFIED:20250211T113745Z
UID:2931-1740916800-1740920400@xn--drsselbjergkirke-mxb.dk
SUMMARY:Gudstjeneste i Drøsselbjerg Kirke - Fastelavn. Tøndeslagning efter gudstjenesten
DESCRIPTION:Klik på billedet nedenfor for at forstørre: \n \n
URL:https://xn--drsselbjergkirke-mxb.dk/arrangementer/gudstjeneste-i-droesselbjerg-kirke-juledag-2024-2-2-2-2-2-2/
LOCATION:Drøsselbjerg Kirke\, Kirkemarksvej 3\, Slagelse\, 4200\, Danmark
ATTACH;FMTTYPE=image/png:https://xn--drsselbjergkirke-mxb.dk/wp-content/uploads/2025/02/2025-03-02-fastelavnsgudstjeneste.png
END:VEVENT
END:VCALENDAR