BEGIN:VCALENDAR
VERSION:2.0
PRODID:-//Drøsselbjerg Kirke - ECPv4.9.4//NONSGML v1.0//EN
CALSCALE:GREGORIAN
METHOD:PUBLISH
X-WR-CALNAME:Drøsselbjerg Kirke
X-ORIGINAL-URL:https://xn--drsselbjergkirke-mxb.dk
X-WR-CALDESC:Events for Drøsselbjerg Kirke
BEGIN:VTIMEZONE
TZID:"UTC"
BEGIN:STANDARD
TZOFFSETFROM:+0000
TZOFFSETTO:+0000
TZNAME:UTC
DTSTART:20210101T000000
END:STANDARD
END:VTIMEZONE
BEGIN:VEVENT
DTSTART;TZID="UTC":20210502T103000
DTEND;TZID="UTC":20210502T113000
DTSTAMP:20260423T090009
CREATED:20210121T200659Z
LAST-MODIFIED:20210121T200726Z
UID:1939-1619951400-1619955000@xn--drsselbjergkirke-mxb.dk
SUMMARY:Gudstjeneste i Drøsselbjerg Kirke (4.s.e.påske - Konfirmation)
DESCRIPTION:
URL:https://xn--drsselbjergkirke-mxb.dk/arrangementer/gudstjeneste-i-droesselbjerg-kirke-4-s-e-paaske-konfirmation-2021/
LOCATION:Drøsselbjerg Kirke\, Kirkemarksvej 3\, Slagelse\, 4200\, Danmark
ATTACH;FMTTYPE=image/jpeg:https://xn--drsselbjergkirke-mxb.dk/wp-content/uploads/2017/05/baggrund_05.jpg
END:VEVENT
END:VCALENDAR