BEGIN:VCALENDAR
VERSION:2.0
PRODID:-//Drøsselbjerg Kirke - ECPv4.9.4//NONSGML v1.0//EN
CALSCALE:GREGORIAN
METHOD:PUBLISH
X-WR-CALNAME:Drøsselbjerg Kirke
X-ORIGINAL-URL:https://xn--drsselbjergkirke-mxb.dk
X-WR-CALDESC:Events for Drøsselbjerg Kirke
BEGIN:VTIMEZONE
TZID:"UTC"
BEGIN:STANDARD
TZOFFSETFROM:+0000
TZOFFSETTO:+0000
TZNAME:UTC
DTSTART:20260101T000000
END:STANDARD
END:VTIMEZONE
BEGIN:VEVENT
DTSTART;TZID="UTC":20260202T190000
DTEND;TZID="UTC":20260202T200000
DTSTAMP:20260424T043311
CREATED:20251026T164251Z
LAST-MODIFIED:20260127T150803Z
UID:3164-1770058800-1770062400@xn--drsselbjergkirke-mxb.dk
SUMMARY:Gudstjeneste i Drøsselbjerg Kirke  Kyndelmisse (Kirken er illumineret ude. Indenfor med levende lys og der er efterfølgende kirkekaffe)
DESCRIPTION:
URL:https://xn--drsselbjergkirke-mxb.dk/arrangementer/gudstjeneste-i-droesselbjerg-kirke-2026-02-01/
LOCATION:Drøsselbjerg Kirke\, Kirkemarksvej 3\, Slagelse\, 4200\, Danmark
ATTACH;FMTTYPE=image/jpeg:https://xn--drsselbjergkirke-mxb.dk/wp-content/uploads/2026/01/OpslagKyndelmisse2026.jpg
END:VEVENT
END:VCALENDAR