BEGIN:VCALENDAR
VERSION:2.0
PRODID:-//Drøsselbjerg Kirke - ECPv4.9.4//NONSGML v1.0//EN
CALSCALE:GREGORIAN
METHOD:PUBLISH
X-WR-CALNAME:Drøsselbjerg Kirke
X-ORIGINAL-URL:https://xn--drsselbjergkirke-mxb.dk
X-WR-CALDESC:Events for Drøsselbjerg Kirke
BEGIN:VTIMEZONE
TZID:"UTC"
BEGIN:STANDARD
TZOFFSETFROM:+0000
TZOFFSETTO:+0000
TZNAME:UTC
DTSTART:20170101T000000
END:STANDARD
END:VTIMEZONE
BEGIN:VEVENT
DTSTART;TZID="UTC":20170723T090000
DTEND;TZID="UTC":20170723T170000
DTSTAMP:20260424T201822
CREATED:20170506T222808Z
LAST-MODIFIED:20170506T222808Z
UID:306-1500800400-1500829200@xn--drsselbjergkirke-mxb.dk
SUMMARY:Gudstjeneste
DESCRIPTION:5.s.e. Trinitatis \n
URL:https://xn--drsselbjergkirke-mxb.dk/arrangementer/gudstjeneste-6/
LOCATION:Drøsselbjerg Kirke\, Kirkemarksvej 3\, Slagelse\, 4200\, Danmark
END:VEVENT
END:VCALENDAR