BEGIN:VCALENDAR
VERSION:2.0
PRODID:-//Drøsselbjerg Kirke - ECPv4.9.4//NONSGML v1.0//EN
CALSCALE:GREGORIAN
METHOD:PUBLISH
X-WR-CALNAME:Drøsselbjerg Kirke
X-ORIGINAL-URL:https://xn--drsselbjergkirke-mxb.dk
X-WR-CALDESC:Events for Drøsselbjerg Kirke
BEGIN:VTIMEZONE
TZID:"UTC"
BEGIN:STANDARD
TZOFFSETFROM:+0000
TZOFFSETTO:+0000
TZNAME:UTC
DTSTART:20250101T000000
END:STANDARD
END:VTIMEZONE
BEGIN:VEVENT
DTSTART;TZID="UTC":20251123T140000
DTEND;TZID="UTC":20251123T160000
DTSTAMP:20260424T185302
CREATED:20251026T160957Z
LAST-MODIFIED:20251026T165008Z
UID:3142-1763906400-1763913600@xn--drsselbjergkirke-mxb.dk
SUMMARY:Gudstjeneste i Drøsselbjerg Kirke og efterfølgende koncert med smukke efterårstoner.
DESCRIPTION:
URL:https://xn--drsselbjergkirke-mxb.dk/arrangementer/gudst-og-koncert-i-droesselbjerg-kirke-efteraar2025/
LOCATION:Drøsselbjerg Kirke\, Kirkemarksvej 3\, Slagelse\, 4200\, Danmark
ATTACH;FMTTYPE=image/jpeg:https://xn--drsselbjergkirke-mxb.dk/wp-content/uploads/2025/10/Sidste-gudstjeneste-i-dette-kirkeaar.jpg
END:VEVENT
END:VCALENDAR