BEGIN:VCALENDAR
VERSION:2.0
PRODID:-//Drøsselbjerg Kirke - ECPv4.9.4//NONSGML v1.0//EN
CALSCALE:GREGORIAN
METHOD:PUBLISH
X-WR-CALNAME:Drøsselbjerg Kirke
X-ORIGINAL-URL:https://xn--drsselbjergkirke-mxb.dk
X-WR-CALDESC:Events for Drøsselbjerg Kirke
BEGIN:VTIMEZONE
TZID:"UTC"
BEGIN:STANDARD
TZOFFSETFROM:+0000
TZOFFSETTO:+0000
TZNAME:UTC
DTSTART:20170101T000000
END:STANDARD
END:VTIMEZONE
BEGIN:VEVENT
DTSTART;TZID="UTC":20171126T100000
DTEND;TZID="UTC":20171126T110000
DTSTAMP:20260424T164310
CREATED:20170817T212140Z
LAST-MODIFIED:20170817T212140Z
UID:594-1511690400-1511694000@xn--drsselbjergkirke-mxb.dk
SUMMARY:Festgudstjeneste i Vor Frue Kirke
DESCRIPTION:Fælles gudstjeneste for hele Kalundborg Provsti med temaet “Reformationsfejring”. Festgudstjeneste og Weyses kantate komponeret til reformationsjulilæet 1817. \n
URL:https://xn--drsselbjergkirke-mxb.dk/arrangementer/festgudstjeneste-i-vor-frue-kirke/
LOCATION:Vor Frue Kirke\, Adelgade 19\, Kalundborg\, 4400\, Danmark
ATTACH;FMTTYPE=image/jpeg:https://xn--drsselbjergkirke-mxb.dk/wp-content/uploads/2017/08/434_310777.jpg
END:VEVENT
END:VCALENDAR