BEGIN:VCALENDAR
VERSION:2.0
PRODID:-//Drøsselbjerg Kirke - ECPv4.9.4//NONSGML v1.0//EN
CALSCALE:GREGORIAN
METHOD:PUBLISH
X-WR-CALNAME:Drøsselbjerg Kirke
X-ORIGINAL-URL:https://xn--drsselbjergkirke-mxb.dk
X-WR-CALDESC:Events for Drøsselbjerg Kirke
BEGIN:VTIMEZONE
TZID:"UTC"
BEGIN:STANDARD
TZOFFSETFROM:+0000
TZOFFSETTO:+0000
TZNAME:UTC
DTSTART:20180101T000000
END:STANDARD
END:VTIMEZONE
BEGIN:VEVENT
DTSTART;TZID="UTC":20180521T110000
DTEND;TZID="UTC":20180521T130000
DTSTAMP:20260424T145450
CREATED:20180404T112245Z
LAST-MODIFIED:20180404T112413Z
UID:873-1526900400-1526907600@xn--drsselbjergkirke-mxb.dk
SUMMARY:Fælles Gudstjeneste v. Bregninge Amfiteater (2. pinsedag)
DESCRIPTION:
URL:https://xn--drsselbjergkirke-mxb.dk/arrangementer/faelles-gudstjeneste-v-bregninge-amfiteater-2-pinsedag/
LOCATION:Bregninge Amfiteater\, Amfivej 1\, Eskebjerg\, 4593\, Danmark
ATTACH;FMTTYPE=image/jpeg:https://xn--drsselbjergkirke-mxb.dk/wp-content/uploads/2018/04/Bregninge-amfi-teater.jpg
END:VEVENT
END:VCALENDAR