BEGIN:VCALENDAR
VERSION:2.0
PRODID:-//Drøsselbjerg Kirke - ECPv4.9.4//NONSGML v1.0//EN
CALSCALE:GREGORIAN
METHOD:PUBLISH
X-WR-CALNAME:Drøsselbjerg Kirke
X-ORIGINAL-URL:https://xn--drsselbjergkirke-mxb.dk
X-WR-CALDESC:Events for Drøsselbjerg Kirke
BEGIN:VTIMEZONE
TZID:"UTC"
BEGIN:STANDARD
TZOFFSETFROM:+0000
TZOFFSETTO:+0000
TZNAME:UTC
DTSTART:20200101T000000
END:STANDARD
END:VTIMEZONE
BEGIN:VEVENT
DTSTART;TZID="UTC":20201101T190000
DTEND;TZID="UTC":20201101T200000
DTSTAMP:20260423T140557
CREATED:20200928T095919Z
LAST-MODIFIED:20200928T095921Z
UID:1804-1604257200-1604260800@xn--drsselbjergkirke-mxb.dk
SUMMARY:Fælles Gudstjeneste (Allehelgensdag)
DESCRIPTION:
URL:https://xn--drsselbjergkirke-mxb.dk/arrangementer/faelles-gudstjeneste-allehelgensdag-2020/
LOCATION:Kirke Helsinge Kirke\, Søndergade 1\, Gørlev\, 4281\, Danmark
ATTACH;FMTTYPE=image/jpeg:https://xn--drsselbjergkirke-mxb.dk/wp-content/uploads/2017/08/127283961.jpg
END:VEVENT
END:VCALENDAR