BEGIN:VCALENDAR
VERSION:2.0
PRODID:-//Drøsselbjerg Kirke - ECPv4.9.4//NONSGML v1.0//EN
CALSCALE:GREGORIAN
METHOD:PUBLISH
X-WR-CALNAME:Drøsselbjerg Kirke
X-ORIGINAL-URL:https://xn--drsselbjergkirke-mxb.dk
X-WR-CALDESC:Events for Drøsselbjerg Kirke
BEGIN:VTIMEZONE
TZID:"UTC"
BEGIN:STANDARD
TZOFFSETFROM:+0000
TZOFFSETTO:+0000
TZNAME:UTC
DTSTART:20260101T000000
END:STANDARD
END:VTIMEZONE
BEGIN:VEVENT
DTSTART;TZID="UTC":20260913T103000
DTEND;TZID="UTC":20260913T180000
DTSTAMP:20260423T063822
CREATED:20260422T190020Z
LAST-MODIFIED:20260422T190204Z
UID:3256-1789295400-1789322400@xn--drsselbjergkirke-mxb.dk
SUMMARY:Sogneudflugt  d. 13 September 2026
DESCRIPTION:Sogneturen er i år arrangeret af Kirke Helsinge og Reersø menighedsråd.\nDet bliver søndag d. 13 september\nTuren går i år til Sct. Bendts kirke i Ringsted til gudstjeneste kl. 10.30.\nDerefter spiser vi frokost\, inden turen går videre til Sagnlandet Lejre.\nYderligere info kommer i næste kirkeblad\, skriver de 2 menighedsråd. \n
URL:https://xn--drsselbjergkirke-mxb.dk/arrangementer/2026sogneudflugt-for-borgere-i-de-3-sogne/
LOCATION:Drøsselbjerg Kirke\, Kirkemarksvej 3\, Slagelse\, 4200\, Danmark
ATTACH;FMTTYPE=image/jpeg:https://xn--drsselbjergkirke-mxb.dk/wp-content/uploads/2026/04/Sogneudflugt13-sep-2026.jpg
END:VEVENT
END:VCALENDAR